BEGIN:VCALENDAR
PRODID:-//eluceo/ical//2.0/EN
VERSION:2.0
CALSCALE:GREGORIAN
BEGIN:VEVENT
UID:58eb31f341c6835244fbb539075a7ba2
DTSTAMP:20260421T234822Z
SUMMARY:Gemütliches Feierabendbier
DESCRIPTION:
URL:https://winterthur.rotaract.ch/is/agenda/show/175259
DTSTART;TZID=Europe/Zurich:20240404T200000
DTEND;TZID=Europe/Zurich:20240404T230000
LOCATION:tbd
CATEGORIES:Rotaract
END:VEVENT
BEGIN:VTIMEZONE
TZID:Europe/Zurich
BEGIN:DAYLIGHT
DTSTART:20240404T200000
TZNAME:CEST
TZOFFSETTO:+0200
TZOFFSETFROM:+0200
END:DAYLIGHT
END:VTIMEZONE
END:VCALENDAR
