BEGIN:VCALENDAR
PRODID:-//eluceo/ical//2.0/EN
VERSION:2.0
CALSCALE:GREGORIAN
BEGIN:VEVENT
UID:85edbc9a8e47cc4248c417739ebba9c2
DTSTAMP:20260421T211742Z
SUMMARY:Glühwein / Feierabendbier
DESCRIPTION:Vefsíða: https://www.winterthurerwintermarkt.ch/
URL:https://winterthur.rotaract.ch/is/agenda/show/186581
DTSTART;TZID=Europe/Zurich:20241127T190000
DTEND;TZID=Europe/Zurich:20241127T230000
LOCATION:Weihnachtsmarkt Winterthur / alt. Bar
CATEGORIES:Rotaract
END:VEVENT
BEGIN:VTIMEZONE
TZID:Europe/Zurich
BEGIN:STANDARD
DTSTART:20241127T190000
TZNAME:CET
TZOFFSETTO:+0100
TZOFFSETFROM:+0100
END:STANDARD
END:VTIMEZONE
END:VCALENDAR
