BEGIN:VCALENDAR
PRODID:-//eluceo/ical//2.0/EN
VERSION:2.0
CALSCALE:GREGORIAN
BEGIN:VEVENT
UID:23792898eccaf840931acb13ff3866c1
DTSTAMP:20260420T144405Z
SUMMARY:Charter Feier
DESCRIPTION:Webbplats: https://caribbeanpearl.ch/
URL:https://winterthur.rotaract.ch/sv/agenda/show/175054
DTSTART;TZID=Europe/Zurich:20240615T160000
DTEND;TZID=Europe/Zurich:20240616T040000
LOCATION:Caribbean Pearl Winterthur
CATEGORIES:Rotaract
END:VEVENT
BEGIN:VTIMEZONE
TZID:Europe/Zurich
BEGIN:DAYLIGHT
DTSTART:20240615T160000
TZNAME:CEST
TZOFFSETTO:+0200
TZOFFSETFROM:+0200
END:DAYLIGHT
END:VTIMEZONE
END:VCALENDAR
